BEGIN:VCALENDAR
VERSION:2.0
X-WR-CALNAME:www.indybay.org
PRODID:-//indybay/ical// v1.0//EN
BEGIN:VEVENT
UID:Indybay-41253
SEQUENCE:41253
CREATED:20040626T181800Z
DESCRIPTION:Farouk Abdel Muhti  will be speaking at our Socialist Organizing Conference 
 on  Sunday, July 11, Park Plaza Hotel, Oakland on Palestine and 
 Anti-Detention in the  US. Farouk was recently released after being 
 detained for 718 days in a US Jail.   Please pass on this information and 
 encourage folks to come out and hear his story.  For more information on 
 the conference, visit http://www.sp-usa.org/orgconf/ or  download the flier 
 at http://www.sp-usa.org/orgconf/conferenceflyer.pdf .  In solidarity,  \n 
 https://www.indybay.org/newsitems/2004/06/26/41253.php
SUMMARY:Farouk Abdel Muhti to Speak at Socialist Conference in Bay Area
LOCATION:Park Plaza Hotel, Oakland
URL:https://www.indybay.org/newsitems/2004/06/26/41253.php
DTSTART:20040711T183000Z
DTEND:20040711T203000Z
END:VEVENT
END:VCALENDAR
