BEGIN:VCALENDAR
VERSION:2.0
X-WR-CALNAME:www.indybay.org
PRODID:-//indybay/ical// v1.0//EN
BEGIN:VEVENT
UID:Indybay-41153
SEQUENCE:41153
CREATED:20040624T121500Z
DESCRIPTION:Benefit Screening of anti-war movie, Fahrenheit 9/11, for September 11th 
 Families for Peaceful Tomorrows & Military Families Speak Out.  Advance 
 tickets may be obtained from:  http://www.brownpapertickets.com/event/378  
 Septemer 11th Families for Peaceful Tomorrows is at:  
 http://www.peacefultomorrows.org/  Military Families Speak Out is at:  
 http://www.mfso.org/\n 
 https://www.indybay.org/newsitems/2004/06/24/41153.php
SUMMARY:Fahrenheit 9/11 Benefit Screening
LOCATION:The Metreon Theater, 4th and Mission Streets, San Francisco
URL:https://www.indybay.org/newsitems/2004/06/24/41153.php
DTSTART:20040625T023000Z
DTEND:20040625T043000Z
END:VEVENT
END:VCALENDAR
