BEGIN:VCALENDAR
VERSION:2.0
X-WR-CALNAME:www.indybay.org
PRODID:-//indybay/ical// v1.0//EN
BEGIN:VEVENT
UID:Indybay-41123
SEQUENCE:41123
CREATED:20040624T044200Z
DESCRIPTION:Storytelling, drumming and dancing featuring Luisa Teish (Storyteller), 
 Fatai Ibikunle (Nigerian Choreographer and Artist), and outstanding 
 Nigerian dancers and drummers from Aji-Tos Center for Art and Culture.  
 7:30PM.  Tickets $10 in advance or at the door.  Pro Arts Gallery, 550 2nd 
 St., Jack London Square 510-763-4361 http://www.proartsgallery.org.  
 Contact Suellen Primost 510-530-3735 for more info on event and upcoming 
 Osun Festival.\n https://www.indybay.org/newsitems/2004/06/23/41123.php
SUMMARY:A Taste of Africa
LOCATION:Pro Arts Gallery, 550 2nd St, Jack London Square, Oakland, 94607
URL:https://www.indybay.org/newsitems/2004/06/23/41123.php
DTSTART:20040701T023000Z
DTEND:20040701T053000Z
END:VEVENT
END:VCALENDAR
