BEGIN:VCALENDAR
VERSION:2.0
X-WR-CALNAME:www.indybay.org
PRODID:-//indybay/ical// v1.0//EN
BEGIN:VEVENT
UID:Indybay-41103
SEQUENCE:41103
CREATED:20040623T015900Z
DESCRIPTION:Come to the opening of a show, called "Liberated Space," of Indymedia 
 photography by Indybay's Peter Maiden.  20 photographs are being exhibited 
 in the Reverie Cafe.  The opening is from 7 to 9 on Thursday, June 24.  The 
 photos will be up between now and the end of July.\n 
 https://www.indybay.org/newsitems/2004/06/22/41103.php
SUMMARY:Liberated Space
LOCATION:In the Haight, at the Reverie  Cafe  848 Cole St.  Between Frederick and 
 Carl  
URL:https://www.indybay.org/newsitems/2004/06/22/41103.php
DTSTART:20040625T020000Z
DTEND:20040625T040000Z
END:VEVENT
END:VCALENDAR
