BEGIN:VCALENDAR
VERSION:2.0
X-WR-CALNAME:www.indybay.org
PRODID:-//indybay/ical// v1.0//EN
BEGIN:VEVENT
UID:Indybay-40953
SEQUENCE:40953
CREATED:20040619T234600Z
DESCRIPTION:Defend Immigrant Rights!  We are community groups, immigrants, and allies 
 outraged by the recent raids in the Mission District and throughout 
 California. Join us in defending the human rights of immigrant workers.  
 Our demands are:  · stop all raids  · that the city denounce the raids  
 · that the police and FBI not cooperate with the INS stop violating the 
 human rights of immigrants who are under custody of the INS  Join us for a 
 press conference and meeting with the I.N.S/I.C.E. Denounce immigration 
 raids in our community!  June 23, 9:30 am  630 Sansome St. at Washington, 
 in front of the INS/ICE  building.  Call Flor Ramos at 553-3402 or Jessica 
 at 553-3426 for more information.  
 ==============================================  Defendamos los Derechos de 
 Los Inmigrantes!  Somos grupos comunitarios, inmigrantes, y aliados  
 enojados sobre las redadas que estan pasando recientemente en la Misión y 
 todo el estado de California. Unéte con nosotros para defender juntos los 
 derechos humanos de los trabajadores inmigrantes.  Nuestras demandas son:  
 · que la ciudad denuncie la redada  · que ni la policía ni el FBI 
 cooperen con la migra  · alto a las redadas  · alto al abuso de los 
 derechos humanos de inmigrantes bajo custodia de la migra  Se les invita a 
 una conferencia de prensa y una  reunión con el INS/ICE.  ¡Denunciar las 
 redadas de inmigración!  23 de Junio, 9:30am  630 Sansome St. (a 
 Washington), enfrente del edificio  de ICE  Llame a Flor Ramos a 553-3402 o 
 Jessica a 553-3426 para más información.  \n 
 https://www.indybay.org/newsitems/2004/06/19/40953.php
SUMMARY:Defend Immigrant Rights! Stop Immigration Raids in Our Community!!
LOCATION:June 23, 9:30 am  630 Sansome St. at Washington, in front of the INS/ICE  
 building.
URL:https://www.indybay.org/newsitems/2004/06/19/40953.php
DTSTART:20040623T163000Z
DTEND:20040623T173000Z
END:VEVENT
END:VCALENDAR
