BEGIN:VCALENDAR
VERSION:2.0
X-WR-CALNAME:www.indybay.org
PRODID:-//indybay/ical// v1.0//EN
BEGIN:VEVENT
UID:Indybay-4063
SEQUENCE:4063
CREATED:20040203T182400Z
DESCRIPTION:Black Independent Film Festival\nfinal screening\n\nProgram for Sunday 
 February 17 -\n\n1) "What Jesus Wouldn't Do"\n     Comedic short film (15 
 minutes) of a fictionalized \n     interview with Jesus.\n\n2) "Ricco"\n    
  Feature Length Film, Mystery/Suspense about \n     police brutality and 
 corruption\n\nFREE AND OPEN TO THE PUBLIC \nDoors Open at 4:00 pm\n\nNext 
 weekend Feb 16, 17, 18 -- African American Multimedia Conference\nat The 
 African American Art and Culture Complex\n762 Fulton Street, near Webster, 
 San Francisco\nwww.iconclastsfbay.org\n 
 https://www.indybay.org/newsitems/2004/02/03/4063.php
SUMMARY:Black Independent Film Festival
LOCATION:Buriel Clay Memorial Theater\nAfrican American Art and Culture Complex\n762 
 Fulton Street (near Webster)\nSan Francisco, CA
URL:https://www.indybay.org/newsitems/2004/02/03/4063.php
DTSTART:20020218T033000Z
DTEND:20020218T053000Z
END:VEVENT
END:VCALENDAR
