BEGIN:VCALENDAR
VERSION:2.0
X-WR-CALNAME:www.indybay.org
PRODID:-//indybay/ical// v1.0//EN
BEGIN:VEVENT
UID:Indybay-40453
SEQUENCE:40453
CREATED:20040609T074100Z
DESCRIPTION:John Ross will read from his new book Murdered by Capitalism.  Also reading 
 in this evening of "New Poems, Old Partners" will be Q.R. Hand[Info from 
 http://www.nationbooks.org. Look there also for info on other appearances 
 by John Ross.]  \n https://www.indybay.org/newsitems/2004/06/09/40453.php
SUMMARY:John Ross reading from Murdered by Capitalism
LOCATION:Bird & Beckett Books & Records  2788 Diamond St, SF 94131  (A few blocks 
 west of San Jose Avenue via Wilder St.)
URL:https://www.indybay.org/newsitems/2004/06/09/40453.php
DTSTART:20040611T023000Z
DTEND:20040611T043000Z
END:VEVENT
END:VCALENDAR
