BEGIN:VCALENDAR
VERSION:2.0
X-WR-CALNAME:www.indybay.org
PRODID:-//indybay/ical// v1.0//EN
BEGIN:VEVENT
UID:Indybay-4043
SEQUENCE:4043
CREATED:20040203T182400Z
DESCRIPTION:Black Independent Film Festival\nFeb 1, 2, 3, 9, 10, 17\n\nProgram for 
 Saturday February 9 - \n\n1) The Texture of Honesty\n     Short (3 minutes) 
 comparing the texture of\n     hair to other things.\n\n2) The Public 
 Housing Scandal\n     About housing injustice in the Bayview and Western 
 Addition\n\n3) Straight Outta Da Fillmore\n\n4) The Script\n     Feature 
 length fiction. About the challenges of a group of\n     African Americans 
 who are trying to get their movie made.\n\nFREE TO THE PUBLIC\nDoors Open 
 at 2pm\n https://www.indybay.org/newsitems/2004/02/03/4043.php
SUMMARY:Black Independent Film Festival
LOCATION:Koret Auditorium\nSan Francisco Main Public Library\n101 Larkin Street\nSan 
 Francisco, CA
URL:https://www.indybay.org/newsitems/2004/02/03/4043.php
DTSTART:20020209T220000Z
DTEND:20020210T000000Z
END:VEVENT
END:VCALENDAR
