BEGIN:VCALENDAR
VERSION:2.0
X-WR-CALNAME:www.indybay.org
PRODID:-//indybay/ical// v1.0//EN
BEGIN:VEVENT
UID:Indybay-4033
SEQUENCE:4033
CREATED:20040203T182400Z
DESCRIPTION:Black Independent Film Festival\nFeb 1, 2, 3, 9, 10, 17\n\nProgram for 
 Sunday February 3\n\n1) The Encounter\n     Animated short 
 (claymation).\n\n2) "Life Itself"\n     A documentary on disabled 
 artists\n\n3) "Patience and Shuffle The Cards"\n     A documentary on James 
 Baldwin, speaking at \n     UC Berkeley in 1981 \n\n4) Alfonia\n     
 Documentary on a funk composer/performer who \n     died at 26 in 
 1983\n\n$5 Suggested Donation \nDoors Open at 7:30 pm\n 
 https://www.indybay.org/newsitems/2004/02/03/4033.php
SUMMARY:Black Independent Film Festival
LOCATION:ATA - Artists Television Access\n992 Valencia Street\nSan Francisco, CA
URL:https://www.indybay.org/newsitems/2004/02/03/4033.php
DTSTART:20020204T033000Z
DTEND:20020204T053000Z
END:VEVENT
END:VCALENDAR
