BEGIN:VCALENDAR
VERSION:2.0
X-WR-CALNAME:www.indybay.org
PRODID:-//indybay/ical// v1.0//EN
BEGIN:VEVENT
UID:Indybay-40273
SEQUENCE:40273
CREATED:20040603T161900Z
DESCRIPTION:Protest Transit cut to AC Transit 20 millon $ & Bart 9 million $\n 
 https://www.indybay.org/newsitems/2004/06/03/40273.php
SUMMARY:Rally AC Transit & BART
LOCATION:State Building  1515 Clay Street  Oakland Calif
URL:https://www.indybay.org/newsitems/2004/06/03/40273.php
DTSTART:20040603T183000Z
DTEND:20040603T193000Z
END:VEVENT
END:VCALENDAR
