BEGIN:VCALENDAR
VERSION:2.0
X-WR-CALNAME:www.indybay.org
PRODID:-//indybay/ical// v1.0//EN
BEGIN:VEVENT
UID:Indybay-40203
SEQUENCE:40203
CREATED:20040602T163900Z
DESCRIPTION:We are announcing the newly formed organization, GMO Free Alameda County- 
 GMO Free Alameda County is a community group dedicated to keeping 
 genetically modified crops (GMOs) out of Alameda County’s ecosystems and 
 food supply. Our goal is to pass legislation banning the development of GMO 
 crops in Alameda County.  GMO Free Alameda County   1164 Solano Avenue #193 
   Albany, CA 94706   510-286-7542   GET THE FACTS!     For Immediate 
 Release   05/12/04   We are announcing the newly formed organization, GMO 
 Free Alameda County-   GMO Free Alameda County is a community group 
 dedicated to keeping   genetically modified crops (GMOs) out of Alameda 
 County’s ecosystems and   food supply.   Our goal is to pass legislation 
 banning the development of GMO crops in   Alameda County.   Our first event 
 is an evening of food, education and film….   Jeffrey Smith, the author 
 of the widely acclaimed book, Seeds of Deception,   is speaking June 2nd at 
 Russell Bass’ Café de la Paz, 1600 Shattuck Ave,   Berkeley, 
 510-843-0662. Admission is $15.00.   Event Highlights:   5:30 – 6:00 Meet 
 and Greet, Photo Ops   [Interviews with Mr. Smith available by appointment] 
   6:00 – 7:00 Wonderful dinner hosted by Café de la Paz   7:00 – 8:00 
 Jeffrey Smith, speaking on the dangers of genetically   modified foods   
 8:00 – 9:30 Powerful, eye-opening film: The Future of Food   Note: There 
 will also be display tables offering further information.   Complimentary 
 admission for media  \n 
 https://www.indybay.org/newsitems/2004/06/02/40203.php
SUMMARY:GMO-Free Alameda County Event
LOCATION:Russell Bass’ Café de la Paz, 1600 Shattuck Ave,   Berkeley, 
 510-843-0662. Admission is $15.00. 
URL:https://www.indybay.org/newsitems/2004/06/02/40203.php
DTSTART:20040603T003000Z
DTEND:20040603T053000Z
END:VEVENT
END:VCALENDAR
