BEGIN:VCALENDAR
VERSION:2.0
X-WR-CALNAME:www.indybay.org
PRODID:-//indybay/ical// v1.0//EN
BEGIN:VEVENT
UID:Indybay-40193
SEQUENCE:40193
CREATED:20040602T010000Z
DESCRIPTION:***** JUNE 5: LET'S GET FREE PRESENTS "THE BREAKOUT" *****  This Saturday, 
 Let's Get Free is hosting an all-ages party at the Oakland Box  Theater. 
 Some of the hottest new hip-hop artists in the Bay Area will grace the  
 stage in a night dedicated not only to having a good time, but also to 
 getting the  word out about the Books Not Bars "Alternatives for Youth" 
 Campaign.  WHEN:     Saturday, June 5 — 9 PM  WHERE:     Oakland Box 
 Theater     1928 Telegraph (at 19th Street)     Oakland  (right near 19th 
 Street BART)  \n https://www.indybay.org/newsitems/2004/06/01/40193.php
SUMMARY:LET'S GET FREE PRESENTS "THE BREAKOUT"
LOCATION:   Oakland Box Theater     1928 Telegraph (at 19th Street)     Oakland
URL:https://www.indybay.org/newsitems/2004/06/01/40193.php
DTSTART:20040606T040000Z
DTEND:20040606T080000Z
END:VEVENT
END:VCALENDAR
