BEGIN:VCALENDAR
VERSION:2.0
X-WR-CALNAME:www.indybay.org
PRODID:-//indybay/ical// v1.0//EN
BEGIN:VEVENT
UID:Indybay-4013
SEQUENCE:4013
CREATED:20040203T182400Z
DESCRIPTION:Black Independent Film Festival\nFeb 1, 2, 3 & 9, 10 & 17\n\nProgram Friday 
 February 1 -\n\n1) The Texture of Honesty\n     Short (3 minutes) comparing 
 the texture of hair to other things.\n\n2) "Fillmore"\n     A half hour 
 documentary on the Fillmore.\n\n3) "Birth of the Hip-Hop Dynasty"\n     A 
 martial arts film, urban fiction/fantasy\n\n$5 suggested donation\n 
 https://www.indybay.org/newsitems/2004/02/03/4013.php
SUMMARY:Black Independent Film Festival
LOCATION:ATA Artists Television Access\n992 Valencia Street\nSan Francisco, CA
URL:https://www.indybay.org/newsitems/2004/02/03/4013.php
DTSTART:20020202T033000Z
DTEND:20020202T053000Z
END:VEVENT
END:VCALENDAR
