BEGIN:VCALENDAR
VERSION:2.0
X-WR-CALNAME:www.indybay.org
PRODID:-//indybay/ical// v1.0//EN
BEGIN:VEVENT
UID:Indybay-40123
SEQUENCE:40123
CREATED:20040531T232000Z
DESCRIPTION:Wednesday, June 9th,  7 pm, New College  Arts Studio -- 741 Valencia St., 
 San Francisco --   A Wonderful Slideshow and Video Presentation on the 
 History of Palestine -- Pre-1948 to Present, with Dr. Jess Ghannam   A 
 benefit for Norcal ISM   $5 to $15   (no one turned away for lack of funds) 
  Co-sponsored by New College Center for Education and Social Action  This 
 is the first event of 4 part, comprehensive training offered by the 
 Int\\\'l Solidarity Movement for volunteers wishing to participate in 
 nonviolent solidarity work in Palestine. For more info on the training, 
 email ismtraining@yahoo.com or call 510 236 4250 or check out the Indybay 
 calendar for June 12, 13 and 16  \n 
 https://www.indybay.org/newsitems/2004/05/31/40123.php
SUMMARY:Slideshow and Presentation on Palestinian History -- Pre-1948 to Present
LOCATION:New College Arts Studio  741 Valencia St., San Francisco
URL:https://www.indybay.org/newsitems/2004/05/31/40123.php
DTSTART:20040610T020000Z
DTEND:20040610T050000Z
END:VEVENT
END:VCALENDAR
