BEGIN:VCALENDAR
VERSION:2.0
X-WR-CALNAME:www.indybay.org
PRODID:-//indybay/ical// v1.0//EN
BEGIN:VEVENT
UID:Indybay-3983
SEQUENCE:3983
CREATED:20040203T182500Z
DESCRIPTION:Demonstrate against the new Richmond anti-sleeping ordinance that prohibits 
 camping equipment in public, sleeping in a vehicle, etc.\n\nLET's get 
 together at this location on Sunday Feb 3rd. at 1:30 pm \nand stay until 
 4:00 pm. What do you all think? \n\nLet's have a show of hands: Who can 
 commit to come? \nLet's "Dare to Dream" a Richmond Where Homeleness is not 
 Criminalized! \nLet bring friend, whistles, drums, ... \n\nIt will be 
 repealed.. \nShame on the host, Mindell Penn, for being so cruel... \nlet's 
 do this. \n\n\nRICHMOND "DARE TO DREAM" RECEPTION \n\nThe City of Richmond 
 cordially invites you to attend the inaugural reception honoring those 
 Richmond leaders who "Dare to Live the 
 Dream"\n\nsee\nhttp://indybay.org/news/2002/01/114657.php\n 
 https://www.indybay.org/newsitems/2004/02/03/3983.php
SUMMARY:Richmond demo for homeless
LOCATION:Richmond Museum of History, \n400 Nevin Avenue in Richmond, CA. \n(between 
 MacDonald and Barrett Avenues at 4th St. 12? blocks west of Richmond BART) 
URL:https://www.indybay.org/newsitems/2004/02/03/3983.php
DTSTART:20020203T213000Z
DTEND:20020203T233000Z
END:VEVENT
END:VCALENDAR
