BEGIN:VCALENDAR
VERSION:2.0
X-WR-CALNAME:www.indybay.org
PRODID:-//indybay/ical// v1.0//EN
BEGIN:VEVENT
UID:Indybay-3973
SEQUENCE:3973
CREATED:20040203T182500Z
DESCRIPTION:The Truth Behind the 1993 U.S. Invasion of Somalia, and the Class View of 
 'Black Hawk Down.' \nBill Kalman, Socialist Workers Party. \nFri., Feb. 15, 
 7:30 p.m. Dinner at 6:30 p.m.\nAll events at 3926 Mission St., San 
 Francisco 94112. \nTel: (415) 584-2135.\n\n 
 https://www.indybay.org/newsitems/2004/02/03/3973.php
SUMMARY:The Truth Behind 'Black Hawk Down'
LOCATION:3926 Mission St., SF
URL:https://www.indybay.org/newsitems/2004/02/03/3973.php
DTSTART:20020216T033000Z
DTEND:20020216T053000Z
END:VEVENT
END:VCALENDAR
