BEGIN:VCALENDAR
VERSION:2.0
X-WR-CALNAME:www.indybay.org
PRODID:-//indybay/ical// v1.0//EN
BEGIN:VEVENT
UID:Indybay-39503
SEQUENCE:39503
CREATED:20040523T050600Z
DESCRIPTION:Body Alive ---(Make Friends with Your Body Workshop)  The Clairvoyant Body 
 & Being  with Michelle Pelletier  *****It's Spring! Time for the Body to 
 Awaken!*****  Movement improvisation, inner investigation, writing, 
 drawing, healing, more... All levels welcome! Clairvoyant Healer Michelle 
 Pelletier offers unique, dynamic healing opportunities through 
 clairvoyance, somatic awareness and solo performance in Body Alive. Her 
 work helps people recognize the sanctuary within.Please RSVP to 
 707-849-7793  "Sacred Feminine energy is always present within your body. 
 So, the body's story is a natural place to realize your divinity."   NEW 
 NIGHT!   Date: MONDAY, MAY 24th  Title: Body Alive  Leader: Michelle 
 Pelletier  Time: 7-9pm  Cost: $15  RSVP:  707-849-7793  at  CHANGE MAKERS  
 Books, Gifts & Events for Women  6536 Telegraph (4 blocks South of Ashby on 
 Telegraph)  Open 11-7 (Closed some Tuesdays) 510-655-2405  
 http://www.ChangeMakersForWomen.com  May we improve the lives of women & 
 girls with our work!  \n 
 https://www.indybay.org/newsitems/2004/05/22/39503.php
SUMMARY:Body Alive ---(Make Friends with Your Body Workshop)
LOCATION:CHANGE MAKERS  Books, Gifts & Events for Women  6536 Telegraph (4 blocks 
 South of Ashby on Telegraph)  Open 11-7 (Closed some Tuesdays) 510-655-2405 
  http://www.ChangeMakersForWomen.com  May we improve the lives of women & 
 girls with our work!  
URL:https://www.indybay.org/newsitems/2004/05/22/39503.php
DTSTART:20040525T020000Z
DTEND:20040525T040000Z
END:VEVENT
END:VCALENDAR
