BEGIN:VCALENDAR
VERSION:2.0
X-WR-CALNAME:www.indybay.org
PRODID:-//indybay/ical// v1.0//EN
BEGIN:VEVENT
UID:Indybay-39473
SEQUENCE:39473
CREATED:20040522T185800Z
DESCRIPTION:   BANDS:               SUBMISSION HOLD(canada)              CONFIDANTE     
           THIS IS MY FIST                             6pm to 10pm           
     $ 5  all ages \n                     953 DE Haro @ Southern Heights\n 
 https://www.indybay.org/newsitems/2004/05/22/39473.php
SUMMARY:SUBMISSION HOLD, CONFIDANTE, THIS IS MY FIST  show in potrero hill san francisco
LOCATION:you can take the 2 busses right to corner of southern heights & de haro the 
 19 POLK from downtown on 8th st.or the 53 SOUTHERN HEIGHTS on 16th st .by 
 bike or driving you can either go east on 16th st. and take a right on DE 
 Haro and take it to Southern Heights or go east on 23rd st.and take left on 
 DE Haro to Southern Heights.take the ceasar chavez/potrero st. exit from 
 the freeway go to potrero st.and take it to 23rd and take a right.  BART: 
 16th & CIVIC CENTER        
URL:https://www.indybay.org/newsitems/2004/05/22/39473.php
DTSTART:20040611T010000Z
DTEND:20040611T050000Z
END:VEVENT
END:VCALENDAR
