BEGIN:VCALENDAR
VERSION:2.0
X-WR-CALNAME:www.indybay.org
PRODID:-//indybay/ical// v1.0//EN
BEGIN:VEVENT
UID:Indybay-39443
SEQUENCE:39443
CREATED:20040522T160900Z
DESCRIPTION:We stand vigil each Friday to protest the ongoing occupation of Palestine; 
 the murder of Palestinians and International Solidarity Workers, the 
 torture of Palestinian and Arab prisoners, the bulldozing of homes and 
 agricultural lands, the stealing of the water supplies and the building of 
 Jewish only settlements and roads and the huge apartheid Wall built on more 
 stolen Palestinian lands. \n 
 https://www.indybay.org/newsitems/2004/05/22/39443.php
SUMMARY:Berkeley Women in Black Vigil
LOCATION:We will vigil outside Cody's Books at Haste and Telegraph as school is 
 closed.
URL:https://www.indybay.org/newsitems/2004/05/22/39443.php
DTSTART:20040528T190000Z
DTEND:20040528T200000Z
END:VEVENT
END:VCALENDAR
