BEGIN:VCALENDAR
VERSION:2.0
X-WR-CALNAME:www.indybay.org
PRODID:-//indybay/ical// v1.0//EN
BEGIN:VEVENT
UID:Indybay-39413
SEQUENCE:39413
CREATED:20040522T064100Z
DESCRIPTION:Tranny March  Friday June 25th, the Friday before Pride, 7 pm  Dolores 
 Park, Dolores and 19th Street  Calling all trannies, friends, allies and 
 admirers.  We are calling for this march to demonstrate that we are a  
 significant and growing portion of the glbtqi community;  to increase our 
 visibility and presence in the tqiglb community and  the overall community 
 at large;  to encourage more trans people to come out;  to build 
 connections among ftm, mtf, bayot, crossdressers, sadhin,  hijra, 
 transvestites, bantut, drag queens, drag kings, mahu,  transsexuals, bakla, 
 travesti, genderqueers, kathoey, two spirit,  intersex and those with other 
 labels for themselves and no labels  for themselves, those who see gender 
 as having more than two  options, and those who live between the existing 
 options;  and to be fabulous and powerful in the company of others that are 
  fabulous and powerful.  Dress up, show up, bring signs, and be what 
 happens!  Please enhance, translate and pass this on to any groups, lists, 
 or  individuals who might be interested.  \n 
 https://www.indybay.org/newsitems/2004/05/21/39413.php
SUMMARY:Tranny March
LOCATION:  Dolores Park, Dolores and 19th Street
URL:https://www.indybay.org/newsitems/2004/05/21/39413.php
DTSTART:20040626T020000Z
DTEND:20040626T040000Z
END:VEVENT
END:VCALENDAR
