BEGIN:VCALENDAR
VERSION:2.0
X-WR-CALNAME:www.indybay.org
PRODID:-//indybay/ical// v1.0//EN
BEGIN:VEVENT
UID:Indybay-38663
SEQUENCE:38663
CREATED:20040512T220600Z
DESCRIPTION:As water moves to global center stage in struggles for human rights and 
 sovereignty, we in California have our own charged scene playing out. This 
 narrated slide show presents stories of our water issues including Central 
 Valley agriculture, East Bay creeks, sewers, etc. We also present local 
 solutions as developed by the Graywater Guerrillas, including graywater 
 treatment wetlands, rainwater catchment, and native habitat restoration. 
 Presented by Cleo Woelfle-Erskine and Andrea del Moral.  Cost:  Free.\n 
 https://www.indybay.org/newsitems/2004/05/12/38663.php
SUMMARY:Community Water Issues and Local Solutions
LOCATION:Ecology Center, 2530 San Pablo Ave, near Dwight Way, Berkeley.
URL:https://www.indybay.org/newsitems/2004/05/12/38663.php
DTSTART:20040528T020000Z
DTEND:20040528T040000Z
END:VEVENT
END:VCALENDAR
