BEGIN:VCALENDAR
VERSION:2.0
X-WR-CALNAME:www.indybay.org
PRODID:-//indybay/ical// v1.0//EN
BEGIN:VEVENT
UID:Indybay-3843
SEQUENCE:3843
CREATED:20040203T182500Z
DESCRIPTION:Join others at beautiful Lake Merritt to protest the war with no end.\n 
 https://www.indybay.org/newsitems/2004/02/03/3843.php
SUMMARY:LMNOP Weekly Peace Walk at Lake Merritt in Oakland
LOCATION:Starts & ends at Collonade between Grand & Lakeshore Avenues at northeast 
 end of Lake Merritt in Oakland.  Near Grand & Lakeshore offramps from 580 
 Freeway.  Close to Grand Lake Theater.
URL:https://www.indybay.org/newsitems/2004/02/03/3843.php
DTSTART:20020303T110000Z
DTEND:20020303T130000Z
END:VEVENT
END:VCALENDAR
