BEGIN:VCALENDAR
VERSION:2.0
X-WR-CALNAME:www.indybay.org
PRODID:-//indybay/ical// v1.0//EN
BEGIN:VEVENT
UID:Indybay-38123
SEQUENCE:38123
CREATED:20040504T225600Z
DESCRIPTION:Global Exchange hosts its 4th Annual Human Rights Awards ceremony on June 
 10 from 6 to 10 p.m. at the San Francisco Gift Center pavilion (that’s 
 888 Brannan St. in San Francisco).  Harry Belafonte and the international 
 farmers’ organization Via Campesina are this year’s honorees. A special 
 Code Pink Award will also be presented to peace and environmental justice 
 advocate Diane Wilson. Renowned South African singer/songwriter Vusi 
 Mahlasela will perform. Drinks and dinner will be served. The $125 donation 
 and silent auction will benefit Global Exchange’s ongoing work for peace, 
 economic and environmental justice. For more information call 415 575 5540 
 or visit http://www.globalexchange.org and click on Human Rights Awards.\n 
 https://www.indybay.org/newsitems/2004/05/04/38123.php
SUMMARY:Party for Peace and Justice: Global Exchange Human Rights Awards
LOCATION:SF Gift Center Pavillion  888 Brannan, San Francisco CA
URL:https://www.indybay.org/newsitems/2004/05/04/38123.php
DTSTART:20040611T010000Z
DTEND:20040611T050000Z
END:VEVENT
END:VCALENDAR
