BEGIN:VCALENDAR
VERSION:2.0
X-WR-CALNAME:www.indybay.org
PRODID:-//indybay/ical// v1.0//EN
BEGIN:VEVENT
UID:Indybay-38103
SEQUENCE:38103
CREATED:20040504T203900Z
DESCRIPTION:Green Party Mayor Jason West made headlines on February 27 when he 
 performed 25 gay and lesbian marriages in his small town of New Paltz, New 
 York. Since then, ministers from several denominations have stepped in to 
 participate in the historic struggle for marriage equality, despite the 
 fact that Mayor West and two Unitarian ministers, Kay Greenleaf and Dawn 
 Sangrey, are all facing potential jail time for their actions. They face 
 misdemeanor charges of solemnizing civil marriages without a license, a 
 crime that could give them up to 1 year in jail for each marriage 
 performed.   Join Mayor West at events throughout the weekend to support 
 the fight for same-sex marriage and equal rights!  Before the church event: 
  *Saturday, May 8: MEET JASON WEST  12-1:30pm at the San Francisco Green 
 Party office: 1028A Howard St.   (between 6th and 7th St.)  \n 
 https://www.indybay.org/newsitems/2004/05/04/38103.php
SUMMARY:Green Party Mayor Jason West on the Fight for Same Sex Marriage
LOCATION:1187 Franklin St. (@ Geary)
URL:https://www.indybay.org/newsitems/2004/05/04/38103.php
DTSTART:20040508T210000Z
DTEND:20040508T230000Z
END:VEVENT
END:VCALENDAR
