BEGIN:VCALENDAR
VERSION:2.0
X-WR-CALNAME:www.indybay.org
PRODID:-//indybay/ical// v1.0//EN
BEGIN:VEVENT
UID:Indybay-38083
SEQUENCE:38083
CREATED:20040504T182400Z
DESCRIPTION:Nationally recognized syndicated columnist and commentator, Arianna 
 Huffington shook up the field and put campaign finance reform front and 
 center when she ran as an Independent in California’s recall election 
 last year.  Now she’s crafted a plan to restore America to its people, 
 taking it back from the fanatics in the White House and the fools in the 
 overly-complacent Democratic Party.  Join the co-host of NPR’s Left, 
 Right and Center for a rollicking discussion of the future of American 
 politics and the potential of election 2004 to put America back on track.\n 
 https://www.indybay.org/newsitems/2004/05/04/38083.php
SUMMARY:Arianna Huffington
LOCATION:Santa Clara Convention Center, Ballroom G   5001 Great America Parkway  
 Santa Clara, CA
URL:https://www.indybay.org/newsitems/2004/05/04/38083.php
DTSTART:20040512T020000Z
DTEND:20040512T030000Z
END:VEVENT
END:VCALENDAR
