BEGIN:VCALENDAR
VERSION:2.0
X-WR-CALNAME:www.indybay.org
PRODID:-//indybay/ical// v1.0//EN
BEGIN:VEVENT
UID:Indybay-3783
SEQUENCE:3783
CREATED:20040203T182500Z
DESCRIPTION:Our First Meeting\nPlease come and be a part of this exciting project to 
 form a sister-city relationship with Cuba\n 
 https://www.indybay.org/newsitems/2004/02/03/3783.php
SUMMARY:Berkeley-Cuba Sister City Meeting
LOCATION:Berkeley City Hall\nConference Room, 6th floor\n2180 Milvia St.
URL:https://www.indybay.org/newsitems/2004/02/03/3783.php
DTSTART:20020201T030000Z
DTEND:20020201T050000Z
END:VEVENT
END:VCALENDAR
