BEGIN:VCALENDAR
VERSION:2.0
X-WR-CALNAME:www.indybay.org
PRODID:-//indybay/ical// v1.0//EN
BEGIN:VEVENT
UID:Indybay-37793
SEQUENCE:37793
CREATED:20040502T052300Z
DESCRIPTION:Ayu.lation Project presents "Under Construction" a moving experience of 
 works in progress.   Performance/Party/Fundraiser/Art  Dance performance by 
 ayu.lation, live music by Media Slave, live art, DJ's  Ben ,Andrew Kelsey, 
 KJ, Ian, FLO  Saturday, May 15  8pm-2am  all ages welcome, bar 21+  
 Rickshaw Stop 155 Fell     between Franklin and Van Ness  $7-$15    no one 
 turned away for lack of funds  Portion of funds to benefit  Cultural 
 Links/Art in Action youth scholarship fund  Opening Ritual @9pm   Come 
 dance with us!        \n 
 https://www.indybay.org/newsitems/2004/05/01/37793.php
SUMMARY:ayu.lation project
LOCATION:Rickshaw Stop 155 Fell Street   Between Van Ness and Franklin
URL:https://www.indybay.org/newsitems/2004/05/01/37793.php
DTSTART:20040516T030000Z
DTEND:20040516T090000Z
END:VEVENT
END:VCALENDAR
