BEGIN:VCALENDAR
VERSION:2.0
X-WR-CALNAME:www.indybay.org
PRODID:-//indybay/ical// v1.0//EN
BEGIN:VEVENT
UID:Indybay-37483
SEQUENCE:37483
CREATED:20040428T062100Z
DESCRIPTION:MAY DAY AT THE NPML     Celebrate May Day,   International Workers Day  
 Saturday, May 1, 2004 at the Niebyl Proctor Marxist Library     Events 
 Taking place all Day! Food! Music! Film! Speakers!     Book sale - 10:00 AM 
 until 2:00 PM     Political Affairs Discussion Group – 10:00 AM 
 (Upstairs)     Film – “Seeing Red” -  12:00 Noon  Peter Miller's 
 Documentary about the Origins and History of the “Internationale”  30 
 Minutes – 1:30 PM     Socialist Unity Network Sponsored Discussion 1:00 
 PM  (Socialist Unity Network (Committees of Correspondence for Democracy 
 and Socialism, Democratic Socialists of America, International Socialist 
 Organization, Solidarity, Socialist Party)  (Topic to be Announced)     
 Music – Red Dust – 2:00 PM     Book Signing – Michael Parenti, Doug 
 Dowd, Irwin Silber (Others To Be Announced) – 2:45 PM     More Music – 
 5:00 PM    7:00 PM- The NPML will show the Oliver Stone’s 
 “Commandante” This film has been censored in the U.S. but we managed to 
 get a copy from Canada. A good way to spend May Day Evening, watching a 
 film the ruling class doesn’t want you to see.  More speakers and events 
 to be scheduled  Suggested Donation $5.00 No One Turned Away  The library 
 is located at 6501 Telegraph Ave in Oakland (Between Alcatraz and 66th) 
 Most events are wheelchair accessible call 510-595-7417 or email 
 npml@marxistlibr.org for more information.          \n 
 https://www.indybay.org/newsitems/2004/04/27/37483.php
SUMMARY:Celebrate MayDay at the Niebyl Proctor Marxist Library
LOCATION:The library is located at 6501 Telegraph Ave in Oakland (Between Alcatraz 
 and 66th) Most events are wheelchair accessible call 510-595-7417 or email 
 npml@marxistlibr.org for more information.
URL:https://www.indybay.org/newsitems/2004/04/27/37483.php
DTSTART:20040501T170000Z
DTEND:20040502T040000Z
END:VEVENT
END:VCALENDAR
