BEGIN:VCALENDAR
VERSION:2.0
X-WR-CALNAME:www.indybay.org
PRODID:-//indybay/ical// v1.0//EN
BEGIN:VEVENT
UID:Indybay-37453
SEQUENCE:37453
CREATED:20040427T231100Z
DESCRIPTION:PISSR General Meeting - Wednesday, May 5th - 7:00PM - SF LGBT Center (at 
 Market & Octavia) - Room Q34 - 3rd Floor   At this meeting we plan to 
 discuss the upcoming community meeting and to present PISSR's new 
 organizational structure.  There will also be snacks and drinks and we’ll 
 be going out somewhere fun afterwards!  Who We Are: PISSR is a diverse 
 dynamic group of activists and artists of all genders from the Bay Area and 
 beyond who are living and working to deconstruct the bathroom binary and 
 other systems of oppression.  We welcome anyone who cares about making 
 bathrooms and other sex-segregated facilities a safer place for all.  
 Mission Statement: We believe that all people, regardless of their gender 
 identification or presentation, have the right to access safe and dignified 
 restroom facilities without fear of harassment, judgement or violence. In 
 order to reach this goal, PISSR is committed to establishing gender-neutral 
 bathrooms.   Check out http://www.pissr.org for more details or to join our 
 mailing list.  \n https://www.indybay.org/newsitems/2004/04/27/37453.php
SUMMARY:PISSR General Meeting
LOCATION:SF LGBT Center
URL:https://www.indybay.org/newsitems/2004/04/27/37453.php
DTSTART:20040506T020000Z
DTEND:20040506T040000Z
END:VEVENT
END:VCALENDAR
