BEGIN:VCALENDAR
VERSION:2.0
X-WR-CALNAME:www.indybay.org
PRODID:-//indybay/ical// v1.0//EN
BEGIN:VEVENT
UID:Indybay-36073
SEQUENCE:36073
CREATED:20040421T004900Z
DESCRIPTION:The Revolution Will Be Televised:  -Documentary Films from the frontlines 
 of the struggle in Mexico and Burma.  -Film makers will be present for 
 discussion.  -Part of the SF Underground Mini Film Fest  
 http://www.sfminifest.com  Admission:$8  Thursday,April 29th @ 8pm  @ 
 Artists' Television Access  992 Valencia Street  San Francisco, CA 94110  
 (415) 824-3890  http://www.atasite.org            .ZAPATISTA!-Special San 
 Francisco Screening!  Produced/Directed by: Big Noise Films & Media 
 Boutique  56 min  Zapatista is the definitive look at the civil war in  
 Mexico. The product of over two years of filming and  research.   Narrated 
 by Edward James Olmos,Daryl Hannah, Geronimo Pratt (former Black Panther 
 and political  prisoner),and Mumia Abu-Jamal.  Includes interviews with 
 elusive Zapatista  spokesperson Subcomandante Marcos,as well as Noam 
 Chomsky;and many more.   “First Place for Documentaries at CineFestival  
 “First Place for Documentaries at the NEXTFRAME  festival”  “Best of 
 the Festival at the Smithsonian Institute’s  Latino Film Festival.”   
 -PROCEEDED BY TWO SHORTS:   ."BURMA BEHIND BARS"  30 min. Video Documentary 
 on Burmese Politica  Produced & Presented by former political prisoners  
 from Burma.  The living proof of how the military junta in Burma  oppresses 
 its own people to silence the movement  towards democracy and freedom.   
 .“DONT FENCE ME IN: MAJOR MARY AND THE KAREN REFUGEES  FROM BURMA” -30 
 min / Producer & Director: Ruth Gumnit  This film chronicles the life of 
 70-year-old freedom  fighter Major Mary On. Featuring rare, clandestine 
 footage smuggled out of the refugee camps along the border between Burma 
 and Thailand.   \n https://www.indybay.org/newsitems/2004/04/20/36073.php
SUMMARY:Zapatista! -Special Movie Screening!
LOCATION:Artists' Television Access  -992 Valencia Street  http://www.atasite.org
URL:https://www.indybay.org/newsitems/2004/04/20/36073.php
DTSTART:20040430T030000Z
DTEND:20040430T060000Z
END:VEVENT
END:VCALENDAR
