BEGIN:VCALENDAR
VERSION:2.0
X-WR-CALNAME:www.indybay.org
PRODID:-//indybay/ical// v1.0//EN
BEGIN:VEVENT
UID:Indybay-35663
SEQUENCE:35663
CREATED:20040419T044400Z
DESCRIPTION:Protest Hummers on Earth Day!  Thurs. April 22, 2004  *Say no to this 
 gas-guzzling behemoth that gets only 9 mpg, that pollutes the air at 2-3 
 times the rate of an average car, and helps fuel our oil dependence that 
 leads us into war.   *Demand that car dealerships and manufacturers offer 
 us more fuel efficient cars and vehicles that run on clean energy.  *Take a 
 stand for alternative forms of transportation.  For more information, email 
 nohummer@codepinkalert.org or call Global Exchange at 415-575-5525 , or go 
 to http://www.codepinkalert.org.  \n 
 https://www.indybay.org/newsitems/2004/04/18/35663.php
SUMMARY:Protest the Hummer on Earth Day!
LOCATION:Team Hummer  2 Shorline Parkway, San Rafael
URL:https://www.indybay.org/newsitems/2004/04/18/35663.php
DTSTART:20040423T000000Z
DTEND:20040423T020000Z
END:VEVENT
END:VCALENDAR
