BEGIN:VCALENDAR
VERSION:2.0
X-WR-CALNAME:www.indybay.org
PRODID:-//indybay/ical// v1.0//EN
BEGIN:VEVENT
UID:Indybay-3563
SEQUENCE:3563
CREATED:20040203T182600Z
DESCRIPTION:An Evening with Davey D, w/ Roosevelt Tarleson Thursday 1/31/02 7-9 PM 1035 
 Indiana Vallejo\n https://www.indybay.org/newsitems/2004/02/03/3563.php
SUMMARY:An Evening with Davey D
LOCATION:w/ Roosevelt Tarleson First Christian Church, 1035 Indiana Vallejo
URL:https://www.indybay.org/newsitems/2004/02/03/3563.php
DTSTART:20020201T030000Z
DTEND:20020201T050000Z
END:VEVENT
END:VCALENDAR
