BEGIN:VCALENDAR
VERSION:2.0
X-WR-CALNAME:www.indybay.org
PRODID:-//indybay/ical// v1.0//EN
BEGIN:VEVENT
UID:Indybay-35203
SEQUENCE:35203
CREATED:20040413T174000Z
DESCRIPTION:TRANCE DANCE   (aka Barefoot Boogie, Ecstatic Dance, Dance jam)  FREE 
 Admission - (Donations to Lindsay Wildlife)  Free form dance to non-stop 
 music inspired to move you. We’ll turn the lights down and the music up. 
 You can dance in your own world, or interact with others – the only rules 
 being: have fun, be yourself, and bare feet please!   See 
 http://www.world-yoga.com for more details.  \n 
 https://www.indybay.org/newsitems/2004/04/13/35203.php
SUMMARY:Trance Dance/Birthday Celebration in support of Lindsay Wildlife Museum
LOCATION:World Yoag in Walnut Creek.    1530 South Main Street  For directions:  
 http://www.world-yoga.com/larkeymap.html
URL:https://www.indybay.org/newsitems/2004/04/13/35203.php
DTSTART:20040503T020000Z
DTEND:20040503T040000Z
END:VEVENT
END:VCALENDAR
