BEGIN:VCALENDAR
VERSION:2.0
X-WR-CALNAME:www.indybay.org
PRODID:-//indybay/ical// v1.0//EN
BEGIN:VEVENT
UID:Indybay-3513
SEQUENCE:3513
CREATED:20040203T182500Z
DESCRIPTION:Social justice, one individual at a time.  Come and help form a community 
 group in Berkeley!\n https://www.indybay.org/newsitems/2004/02/03/3513.php
SUMMARY:Amnesty International Berkeley community group meeting
LOCATION:Claremont Branch of the Berkeley Public Library, 2940 Benvenue Ave (corner 
 of Ashby)
URL:https://www.indybay.org/newsitems/2004/02/03/3513.php
DTSTART:20020117T030000Z
DTEND:20020117T050000Z
END:VEVENT
END:VCALENDAR
