BEGIN:VCALENDAR
VERSION:2.0
X-WR-CALNAME:www.indybay.org
PRODID:-//indybay/ical// v1.0//EN
BEGIN:VEVENT
UID:Indybay-34273
SEQUENCE:34273
CREATED:20040328T061800Z
DESCRIPTION:Winner of over 20 international awards, this fascinating documentary 
 records the coup attempt against Hugo Chavez, in 2002, supported by the 
 upper 20% of the economic class in Venezuela and the Bush administration.  
 The coup attempt failed two days later as the nation’s working class took 
 to the streets and military officers loyal to Chavez restored the people's 
 elected government.  74 min, 2003  Dawn Gable, actively involved in 
 Venezuelan politics and founder of the International Bolivarian Circle: 
 Cyber-Solidarity http://www.cybercircle.org, and the co-creator and 
 co-manager of the Bolivarian Circles official website 
 http://www.circulosbolivarianos.org, will present the film and lead a 
 discussion after the screening.  \n 
 https://www.indybay.org/newsitems/2004/03/27/34273.php
SUMMARY:Film:The Revolution Will Not be Televised
LOCATION:World Centric (at Aha! Center)  2121 Staunton Ct  Palo Alto, CA  
 http://www.worldcentric.org
URL:https://www.indybay.org/newsitems/2004/03/27/34273.php
DTSTART:20040407T023000Z
DTEND:20040407T033000Z
END:VEVENT
END:VCALENDAR
