BEGIN:VCALENDAR
VERSION:2.0
X-WR-CALNAME:www.indybay.org
PRODID:-//indybay/ical// v1.0//EN
BEGIN:VEVENT
UID:Indybay-33983
SEQUENCE:33983
CREATED:20040323T165600Z
DESCRIPTION:Is water part of a shared "commons," a human right for all people? Or is it 
 a commodity to be bought, sold, and traded in the global marketplace? 
 “Thirst” tells the stories of communities in Japan, Bolivia, India and 
 the United States that are asking these fundamental questions, as water 
 becomes the most valuable global resource of the 21st Century  $3-5 dollar 
 donation appreciated\n 
 https://www.indybay.org/newsitems/2004/03/23/33983.php
SUMMARY:film screening "Thirst" in Chico
LOCATION:Chico Peace and Justice Center  526 Broadway  Chico
URL:https://www.indybay.org/newsitems/2004/03/23/33983.php
DTSTART:20040331T030000Z
DTEND:20040331T040000Z
END:VEVENT
END:VCALENDAR
