BEGIN:VCALENDAR
VERSION:2.0
X-WR-CALNAME:www.indybay.org
PRODID:-//indybay/ical// v1.0//EN
BEGIN:VEVENT
UID:Indybay-33763
SEQUENCE:33763
CREATED:20040321T043500Z
DESCRIPTION:An all-evening anti-war canteen! Marchers from today's protest can find 
 camaraderie in our gallery lounge, with the proceeds from every (pork and 
 tofu) hot dog sold going to MoveOn.org. Doors open as early as 7pm for the 
 (free) screening of Robert Greenwald's Uncovered, followed by Indymedia's 
 ...In Time of War. Or come at 8:30pm ($5 sliding scale) for a curated 
 program of media-art pieces and eye-witness testimonies about the human 
 catastrophe in Iraq. Mark Brecke returns from his two trips there with a 
 slide-essay on the current state of affairs. Anti-military missives by Eli 
 Elliott, Caroline Koebel, Greg Berger, and Keith Sanborn precede the world 
 premiere of Mike Kavanagh's (in person) monumental compilation, culled from 
 thousands of hours of Al-Jazeera and other satellite sources. Confirmed: 
 The Twin Towers will be screening at this event, along with The Fellowship 
 of the Ring of Free Trade.  \n 
 https://www.indybay.org/newsitems/2004/03/20/33763.php
SUMMARY:Roasting The Pigs of War - Anti-war video screening
LOCATION:992 Valencia (at 21st St.) in the Mission, SF
URL:https://www.indybay.org/newsitems/2004/03/20/33763.php
DTSTART:20040321T043000Z
DTEND:20040321T073000Z
END:VEVENT
END:VCALENDAR
