BEGIN:VCALENDAR
VERSION:2.0
X-WR-CALNAME:www.indybay.org
PRODID:-//indybay/ical// v1.0//EN
BEGIN:VEVENT
UID:Indybay-33633
SEQUENCE:33633
CREATED:20040318T234100Z
DESCRIPTION:We Will Not Allow Our University to Support Racism, Ethnic Cleansing and 
 Apartheid   REMEMBER DEIR YASSIN AND DIVEST FROM ISRAEL!  April 9th, NOON  
 Dwinelle Plaza on the UC Berkeley Campus  Near Sather Gate and Wheeler Hall 
  Early in the morning of April 9, 1948, commandos of the Irgun (headed by 
 Menachem Begin) and the Stern Gang attacked Deir Yassin, a village with 
 about 750 Palestinian residents killing 100s of men, women and children. 
 Though the village lay outside of the area to be assigned by the United 
 Nations to the Jewish State it was located on strategic high ground and was 
 slated for occupation under Plan Dalet and the mainstream Jewish defense 
 force.   Deir Yassin stands as an early instance of the calculated 
 depopulation of over 400 Arab villages and cities and the expulsion of over 
 700,000 Palestinian inhabitants.  It is a stark symbol of the racism of 
 behind the ethnically defined state of Israel and the violence that this 
 has engendered, continuing to manifest to today.  In the spirit of the 
 South African anti-apartheid movement we call on the University to divest 
 from Israel by selling off its over $7 billion of holdings in companies 
 that do business in Israel.  We ask all students and concerned citizens to 
 join us for an afternoon of creative direct action in support of freedom, 
 justice and divestment from Israel.  Students for Justice in Palestine – 
 UC Berkeley  http://www.ucdivest.org, http://www.justiceinpalestine.org  \n 
 https://www.indybay.org/newsitems/2004/03/18/33633.php
SUMMARY:Divest from Israel
LOCATION:Dwinelle Plaza  UC Berkeley Campus near Sather gate and Wheeler Hall 
URL:https://www.indybay.org/newsitems/2004/03/18/33633.php
DTSTART:20040409T190000Z
DTEND:20040409T210000Z
END:VEVENT
END:VCALENDAR
