BEGIN:VCALENDAR
VERSION:2.0
X-WR-CALNAME:www.indybay.org
PRODID:-//indybay/ical// v1.0//EN
BEGIN:VEVENT
UID:Indybay-3343
SEQUENCE:3343
CREATED:20040203T182500Z
DESCRIPTION:The Global Warming/Climate Action Committee of the Green Party of San Mateo 
 County & the Loma Prieta Chapter of the Sierra Club meets at 11am on the 
 first Sunday of each month at the El Rancho restaurant, 2421 Broadway, 
 Redwood City, just NE of the CalTrain station. All are welcome. Contact Tom 
 Dickerman by phone (650-992-3963) or email (dickermn@verio.com) if you plan 
 to attend. \n https://www.indybay.org/newsitems/2004/02/03/3343.php
SUMMARY:Global Warming & Climate Action
LOCATION:El Rancho restaurant\n2421 Broadway\nRedwood City\n(just NE of the CalTrain 
 station)
URL:https://www.indybay.org/newsitems/2004/02/03/3343.php
DTSTART:20020203T190000Z
DTEND:20020203T200000Z
END:VEVENT
END:VCALENDAR
