BEGIN:VCALENDAR
VERSION:2.0
X-WR-CALNAME:www.indybay.org
PRODID:-//indybay/ical// v1.0//EN
BEGIN:VEVENT
UID:Indybay-32863
SEQUENCE:32863
CREATED:20040310T074500Z
DESCRIPTION:Are mainstream business schools adapting courses that incorporate 
 principles of consciousness and/or non-religious spirituality? Are those 
 faculty members and schools pioneering these programs part of a larger 
 trend or merely isolated pockets of individual initiative? Join these 
 distinguished academics for a unique dialogue about existing and planned 
 programs, many of which may still be very controversial among university 
 administrations.   Conversation Starters  . André Delbecq, Thomas J. and 
 Kathleen L. McCarthy University Professor, Former Dean, Leavey Business 
 School, Santa Clara University  . Michael Ray, Professor Emeritus, School 
 of Business, Stanford University  . Bill Sonnenschein, Communications Group 
 Faculty, Haas Business School, University of California  . Michael Whitty, 
 Professor of Management and Labor Relations, College of Business 
 Administration, University of Detroit Mercy  . Gary G. Williams, Dean of 
 the USF School of Business and Management  Event Details  Schedule: 
 Registration 7:00 PM, Meeting Begins 7:15 PM, First presenters comment, 
 then dialogue with audience; estimated conclusion at 9:30 PM  Admission: 
 $20 in advance by registering online; $25 in advance (by email, phone or 
 check); $30 at the door.   To register online, go to: 
 http://www.thepresidiodialogues.org/register.html.  For this event, U.S.F. 
 students, faculty and staff are admitted free with valid ID. To reserve a 
 seat, please email your name and status (student/faculty/staff) to: 
 register@thepresidiodialogues.org.  Hosted by The Presidio Dialogues 
 (http://www.thepresidiodialogues.org)  Conversations for Conscious Business 
 - every fourth Tuesday in the Presidio  \n 
 https://www.indybay.org/newsitems/2004/03/09/32863.php
SUMMARY:Conscious Business in MBA Schools: Myth or Reality?
LOCATION:Room LM148 (aka The Pan Pacific Room), Lone Mountain Conference Center at 
 the University of San Francisco (http://www.usfca.edu)
URL:https://www.indybay.org/newsitems/2004/03/09/32863.php
DTSTART:20040408T020000Z
DTEND:20040408T050000Z
END:VEVENT
END:VCALENDAR
