BEGIN:VCALENDAR
VERSION:2.0
X-WR-CALNAME:www.indybay.org
PRODID:-//indybay/ical// v1.0//EN
BEGIN:VEVENT
UID:Indybay-32753
SEQUENCE:32753
CREATED:20040307T081700Z
DESCRIPTION: please tell others.  Please check full details here:  
 http://www.kucinich.us/dalailama1.php     \n\n\nEthics and the World 
 Crisis: \nA Dialogue with the Dalai Lama \n\nAirs Sunday, 3/7/04 on Link TV 
 (DIRECTV Ch. 375/Dish Ch. 9410) at\n2 and 8 PM PT / 5 and 11 PM ET \nFor 
 Web streaming and additional airtimes see the LinkTV Web site\n. \nA Link 
 TV exclusive documentary presents highlights of an extraordinary day-long 
 ethics conference, featuring the Dalai Lama in conversation with some of 
 the nation's leading activists, among them Dennis Kucinich. A co-production 
 of Tibet House U.S. in New York and Link TV, the program brings together 
 for the first time ever, one of the world’s most important spiritual 
 leaders with renowned journalists, economists, environmentalists and 
 politicians to discuss the ethical dilemmas of the new millennium. \n\nWith 
 allegations of government subterfuge, corporate malfeasance scandals and a 
 devastating global warming crisis dominating the headlines, this 
 unprecedented television program gives millions of Americans a rare glimpse 
 into the enlightening ethical teachings, peaceful nature and often 
 surprising humor of the Dalai Lama. \n\nThe program includes highlights 
 from four panels: Ethics and the Environment (with David Crow, Randall 
 Hayes, Paul Hawken), Ethics and the Media (with Amy Goodman, Katrina vanden 
 Heuvel, Susan Sarandon); Ethics and Economics (with Ben Cohen, Amy Domini, 
 Russell Simmons); and Ethics and the Politics of Peace (with Dr. Helen 
 Caldicott, Dennis Kucinich, and Rev. Al Sharpton). The discussions are 
 intercut with interviews from the panelists, who provide personal insights 
 into their impressions of the dialogue and what ethics means to 
 them.\n\nThe program was filmed in September, 2003 at New York’s Town 
 Hall.\n\n\n\n\n https://www.indybay.org/newsitems/2004/03/07/32753.php
SUMMARY:DALAI LAMA, KUCINICH, OTHER LEADERS.. link TV
LOCATION:Airs Sunday, 3/7/04 on Link TV (DIRECTV Ch. 375/Dish Ch. 9410) at\n2 and 8 
 PM PT / 5 and 11 PM ET \nFor Web streaming and additional airtimes see the 
 LinkTV Web site
URL:https://www.indybay.org/newsitems/2004/03/07/32753.php
DTSTART:20040307T220000Z
DTEND:20040308T000000Z
END:VEVENT
END:VCALENDAR
