BEGIN:VCALENDAR
VERSION:2.0
X-WR-CALNAME:www.indybay.org
PRODID:-//indybay/ical// v1.0//EN
BEGIN:VEVENT
UID:Indybay-3243
SEQUENCE:3243
CREATED:20040203T182500Z
DESCRIPTION:Join with others opposed to war, militarism, & the erosion of civil 
 liberties.\n https://www.indybay.org/newsitems/2004/02/03/3243.php
SUMMARY:LMNOP Weekly Peace Walk
LOCATION:Starts & ends at the colonades between Grand & Lakeshore Avenues at the 
 northeast end of Lake Merritt.  Near Grand Lake Theater & Grand & Lakeshore 
 offramps from 580 Freeway.
URL:https://www.indybay.org/newsitems/2004/02/03/3243.php
DTSTART:20020203T080000Z
DTEND:20020203T100000Z
END:VEVENT
END:VCALENDAR
