BEGIN:VCALENDAR
VERSION:2.0
X-WR-CALNAME:www.indybay.org
PRODID:-//indybay/ical// v1.0//EN
BEGIN:VEVENT
UID:Indybay-32373
SEQUENCE:32373
CREATED:20040302T014600Z
DESCRIPTION:Trespasses:  A celebration of women filmmakers from near and far.  In 
 celebration of International Women's Day the Activism & Social  Change 
 department at New College of California is hosting Trespasses a  four-day 
 film festival highlighting the work of women filmmakers.    Fri. Mar. 5, 
 6:30-9:30:   By the By  by Kirthi Nath  The Silences of the Palace by 
 Moufida Tlatli  Sat. Mar. 6, 7:00 - 9:30:   No Dumb Questions by Melissa 
 Regan    Shinjuku Boys by Kim Longinotto & Jano Williams  (This evening's 
 films are co-sponsored by COLAGE (Children of Lesbians & Gays  Everywhere)  
 Sun. Mar. 7, 7:00 - 9:30:   Senorita Extraviada-Missing Young Woman by 
 Lourdes Portillo  Mon. Mar. 8, 7:00 - 9:30   Sisterz of the Underground: 
 Extra Credit by Laurie Koh  Celestial Clockwork by Fina Torres  New College 
 of California Cultural Center, 766 Valencia St., San  Francisco.   For more 
 information contact Helene Vosters at 415 437-3408.  $3-$5 per evening 
 suggested donation (no one turned away for lack of  funds)  All proceeds 
 from Sunday's showing of Senorita Extraviada: Missing  Young Woman will go 
 to the Mexico Solidarity Network for their solidarity  work with the women 
 of Juarez. The film will be followed by dessert and  wine.  \n 
 https://www.indybay.org/newsitems/2004/03/01/32373.php
SUMMARY:Trespasses: A Celebration of Women Filmmakers
LOCATION:
URL:https://www.indybay.org/newsitems/2004/03/01/32373.php
DTSTART:20040306T023000Z
DTEND:20040306T053000Z
END:VEVENT
END:VCALENDAR
