BEGIN:VCALENDAR
VERSION:2.0
X-WR-CALNAME:www.indybay.org
PRODID:-//indybay/ical// v1.0//EN
BEGIN:VEVENT
UID:Indybay-32203
SEQUENCE:32203
CREATED:20040229T054200Z
DESCRIPTION:Monday, March 1, 2004  6 pm - 8 pm  
 ------------------------------------------------------------------------  
 School Gardens Around the World  
 ------------------------------------------------------------------------  
 The Berkeley Community Gardening Collaborative monthly meeting will   
 feature an evening slideshow on school gardens around the world and   
 everyone is welcome! The speaker for the evening will be Sharon   Danks, 
 who will talk and present slides about school gardens in   England, 
 Scandinavia, and other countries. This will be especially   interesting for 
 teachers who are thinking of starting a school   garden. It's a potluck so 
 bring a dish to share if you can; we   provide drinks and dishware.  
 ------------------------------------------------------------------------  
 Location:         Ecology Center, 2530 San Pablo Ave, near Dwight Way, 
 Berkeley.  Cost:         Free.  Info:         510/548-2220 x233.    \n 
 https://www.indybay.org/newsitems/2004/02/28/32203.php
SUMMARY:School Gardens Around the World
LOCATION:Ecology Center, 2530 San Pablo Ave, near Dwight Way, Berkeley
URL:https://www.indybay.org/newsitems/2004/02/28/32203.php
DTSTART:20040302T020000Z
DTEND:20040302T040000Z
END:VEVENT
END:VCALENDAR
