BEGIN:VCALENDAR
VERSION:2.0
X-WR-CALNAME:www.indybay.org
PRODID:-//indybay/ical// v1.0//EN
BEGIN:VEVENT
UID:Indybay-31343
SEQUENCE:31343
CREATED:20040219T030500Z
DESCRIPTION:Stop by, Hang out, and Support Queer Theatre  The New Conservatory Theatre 
 Center of San Francisco established in 1981 is known for its eleven month 
 subscriber based gay theatre performance programs. On Saturday, February 
 21st, 2004 between 1:30-5:30pm the New Conservatory will be hosting a 
 Costume Sale.  Shirts, Dresses, Wigs, Shoes  Everything must GO!  Part of 
 the proceeds go to the New Conservatory Theatre Center's youth drama 
 programs.    \n https://www.indybay.org/newsitems/2004/02/18/31343.php
SUMMARY:Support Queer Arts/COSTUME SALE
LOCATION:The New Conservatory Theatre Center (The Old Masonic Building)  Theatre III 
  25 Van Ness Avenue, Lower Lobby  (btwn Oak St. and Hickory, one block 
 north of Market St.)  San Francisco
URL:https://www.indybay.org/newsitems/2004/02/18/31343.php
DTSTART:20040221T213000Z
DTEND:20040222T013000Z
END:VEVENT
END:VCALENDAR
