BEGIN:VCALENDAR
VERSION:2.0
X-WR-CALNAME:www.indybay.org
PRODID:-//indybay/ical// v1.0//EN
BEGIN:VEVENT
UID:Indybay-3083
SEQUENCE:3083
CREATED:20040203T182500Z
DESCRIPTION:Lake Merritt is a man-made saltwater lake, connected to the Estuary & from 
 there to the Bay.  The level of the lake is affected by the tides.  The 1st 
 federal wildlife refuge in the United States, it is still a bird sanctuary. 
  Come enjoy the natural beauty of this fantastic lake & converse with 
 others who are opposed to this new "war with no end."  Bring peace signs if 
 you have them - Come even if you don't.\n 
 https://www.indybay.org/newsitems/2004/02/03/3083.php
SUMMARY:LMNOP Weekly Peace Walk
LOCATION:Near Grand Lake Theater at northeast end of Lake Merritt.  Between Grand & 
 Lakeshore Avenues.  Close to Grand & Lakeshore offramps from the 580 
 Freeway.
URL:https://www.indybay.org/newsitems/2004/02/03/3083.php
DTSTART:20020127T230000Z
DTEND:20020128T010000Z
END:VEVENT
END:VCALENDAR
