BEGIN:VCALENDAR
VERSION:2.0
X-WR-CALNAME:www.indybay.org
PRODID:-//indybay/ical// v1.0//EN
BEGIN:VEVENT
UID:Indybay-30733
SEQUENCE:30733
CREATED:20040210T074300Z
DESCRIPTION:AHOY!   LOUNGE OUT AND CELEBRATE OUR 60th CONSECUTIVE ART SHOW-   we like 
 to call " ELEVATOR IN THE BRAIN HOTEL "   6-9pm happyhour, open `til 
 midnite or `til we kick you out :)   It's been a whole year curating these 
 art shows at SUBLOUNGE!, I have been having a great time! can't cha` tell!? 
 I remember this time last year, first shyly asking to step foot into the 
 place, and the welcome was so nice - soon seeing how great the art looked- 
 we kept it a weekly. It's always been our Art show/No DJDrama evening, new 
 people meet cool people and the bar has always been rockin'.. tomorrow nite 
 should be lovely!   so, I've been keeping in touch with a few artists and 
 looking through websites artists have been sending me- my eyes have been on 
 some really nice art... !THANKS to everyone who is going to be a part of 
 this show!  my mission as an artist... I want to show off the wonderful 
 talent others and myself know we have!! so come hang out tomorrow!!!!   
 ...these are the artists I think/hope will be showing up at SUBLOUNGE 
 tomorrow nite..   --Artshow designed by :   Sherri B's Deep Beep 
 Productions with curator Chris Fabbri--   the list is as follows 2/10/04:   
 Eric Dodd http://www.ericdodd.com , Janet Allinger 
 http://www.janetallinger.com/ , Laura Anderson http://www.leaart.com/ , 
 Harriet Salmon, Sarah Schumm, Jennifer Levine, Matt Greenawalt 
 http://www.emgeegallery.com/ , Ian Gatt, Bart D. Frescura 
 http://www.sanctuaryofshadows.org/ , DeeDee Russell http://deedeetv.com/ , 
 Sharon Gobuty http://f1.pg.photos.yahoo.com/ph/sharon_gobuty/my_photos , 
 Eric Brooks http://www.eyeoftheart.com/artist.php?id=220 , Daniel Martinez 
 http://www.artistbyday.com/ & Julie L. Rasmussen 
 http://photos.yahoo.com/jooiffy   --COME AS YOU ARE or DON'T COME AT 
 ALL/NO-DJ DRAMA evening in full effect--   WHAT TO EXPECT:   only be a good 
 time- it's free to get in,   $2 buds/$3well   2/17/04 Guest Artist new 
 week: Britt Michaelian http://www.brittmart.com and the Soulful San 
 Francisco Punk Rock Drum Machine sounds of Chow Nasty!   full listing and 
 other treats see:   
 http://groups.msn.com/ChrisFabbriArtistPoetHomePage/fabbri.msnw   
 http://www.sublounge.com     SUBLOUNGE was elected BEST DJ bar in 2003 by 
 SFWEEKLY and GAURDIAN   old school burning man' spacelounge : water 
 hole/beautiful bar that glows red with black walls. chill in cozy airplane 
 style lounge chairs battle some Playstation 2!   password/motto: "Yes Ma'am 
 -Always a good time."   or "here titty titty!"   HAHA!   AHOY mate!   
 ~CHRIS   \n https://www.indybay.org/newsitems/2004/02/09/30733.php
SUMMARY:SUBLOUNGE
LOCATION:SUBLOUNGE 628 20th/3rd SF  
URL:https://www.indybay.org/newsitems/2004/02/09/30733.php
DTSTART:20040211T020000Z
DTEND:20040211T080000Z
END:VEVENT
END:VCALENDAR
