BEGIN:VCALENDAR
VERSION:2.0
X-WR-CALNAME:www.indybay.org
PRODID:-//indybay/ical// v1.0//EN
BEGIN:VEVENT
UID:Indybay-30633
SEQUENCE:30633
CREATED:20040210T001500Z
DESCRIPTION:Planning for Feb 22nd Sunday Voter Matinee. Join us and help create a huge 
 turnout for the event!\n 
 https://www.indybay.org/newsitems/2004/02/09/30633.php
SUMMARY:Greater Sacramento Progressive Coalition
LOCATION:Joe Marty's on Broadway and 15th Street.  
URL:https://www.indybay.org/newsitems/2004/02/09/30633.php
DTSTART:20040212T163000Z
DTEND:20040212T173000Z
END:VEVENT
END:VCALENDAR
