BEGIN:VCALENDAR
VERSION:2.0
X-WR-CALNAME:www.indybay.org
PRODID:-//indybay/ical// v1.0//EN
BEGIN:VEVENT
UID:Indybay-3063
SEQUENCE:3063
CREATED:20040203T182400Z
DESCRIPTION:Speakers from INS Watch and Critical Resistance will discuss the specifics 
 of the new "anti-terrorism" laws, how these new laws build on the 
 anti-terrorism and immigration reform acts of 1996, the impacts already 
 being felt by targeted communities, violations of civil liberties and human 
 rights, and implications for the future. \n\n$5 donation accepted at the 
 door. No one turned away for lack of funds. \n 
 https://www.indybay.org/newsitems/2004/02/03/3063.php
SUMMARY:US Immigration Policy and the Intensifying Police State
LOCATION:522 Valencia Street in SF\n
URL:https://www.indybay.org/newsitems/2004/02/03/3063.php
DTSTART:20020130T030000Z
DTEND:20020130T050000Z
END:VEVENT
END:VCALENDAR
