BEGIN:VCALENDAR
VERSION:2.0
X-WR-CALNAME:www.indybay.org
PRODID:-//indybay/ical// v1.0//EN
BEGIN:VEVENT
UID:Indybay-30353
SEQUENCE:30353
CREATED:20040209T010500Z
DESCRIPTION:COMMUNITY MEETING\n\nTHE COURAGE OF NON-VIOLENCE: Working Together to End 
 the Cycles of Barrio Warfare in San Jose\n\nWhere: Prusch Park 647 S King 
 Rd San Jose CA\nWhen: Saturday, February 14, 2004, 9am-1pm\n\n* This 
 meeting will focus on alternative sound policies and programs to counteract 
 the escalating problems of violence, crime and social breakdown affecting 
 our youth. \n* Participants will share methods and strategies on youth 
 violence prevention.\n* Parents of incarcerated youth affected by violence 
 will offer testimonies.\n\nContact: Henry Dominguez  (408) 946-7003 
 eaglespeaks@sbcglobal.net\n\nSponsors/partners: Barrios Unidos, Escuela 
 Popular, Civil Rights for Children, MACSA Street Reach Project\n\n 
 https://www.indybay.org/newsitems/2004/02/08/30353.php
SUMMARY:The Courage of Non-Violence
LOCATION:Prusch Park 647 S King Rd San Jose CA
URL:https://www.indybay.org/newsitems/2004/02/08/30353.php
DTSTART:20040214T170000Z
DTEND:20040214T210000Z
END:VEVENT
END:VCALENDAR
